BEGIN:VCALENDAR
VERSION:2.0
PRODID:-//hacksw/handcal//NONSGML v1.0//EN
BEGIN:VEVENT
SUMMARY:U11F : TOURNOI Pont du Chateau
UID:7dcdac52-68f7-414d-abd8-b5dcd2553552
DTSTART:20260507T220000Z
DTEND:20260508T220000Z
LOCATION:Localisation Le cameleon 52 avenue de Cournon 63430 Pont du Chateau
CATEGORIES:Sportif
STATUS:
DESCRIPTION:<p><u>Equipes inscrites</u> :
 <strong>U11F</strong></p>
 
 <p>Horaires : non communique pour le
 moment</p>
 
 <p>Buvette et restauration sur place avec produits
 locaux</p>
URL;VALUE=URI:https://www.gerzatbasket.com/evenements/2026/05/08/u11f-tournoi-pont-du-chateau-2429363
END:VEVENT
END:VCALENDAR
