BEGIN:VCALENDAR
VERSION:2.0
PRODID:-//hacksw/handcal//NONSGML v1.0//EN
BEGIN:VEVENT
SUMMARY:U15F1 VS BRIOUDE
UID:7d321c6f-1915-46b8-9d52-d114f65d6c90
DTSTART:20260426T100000Z
DTEND:20260426T120000Z
LOCATION:Localisation   
CATEGORIES:Sportif
STATUS:
URL;VALUE=URI:https://www.gerzatbasket.com/evenements/2026/04/26/u15f1-vs-brioude-2430738
END:VEVENT
END:VCALENDAR
