BEGIN:VCALENDAR
VERSION:2.0
PRODID:-//hacksw/handcal//NONSGML v1.0//EN
BEGIN:VEVENT
SUMMARY:U9 VS CHAURIAT VERTAIZON 1
UID:c9c93afc-2dc7-407b-8097-c6e28eae7ae2
DTSTART:20260425T110000Z
DTEND:20260425T130000Z
LOCATION:GYMNASE FUSTIER PLACE MARCEL COLLANGE 63360 GERZAT
CATEGORIES:Sportif
STATUS:
URL;VALUE=URI:https://www.gerzatbasket.com/evenements/2026/04/25/u9-vs-chauriat-vertaizon-1-2430698
END:VEVENT
END:VCALENDAR
