BEGIN:VCALENDAR
VERSION:2.0
PRODID:-//hacksw/handcal//NONSGML v1.0//EN
BEGIN:VEVENT
SUMMARY:U18M VS PONT DU CHATEAU
UID:b435b1af-e828-4a97-8a17-20fff02a10ab
DTSTART:20260425T163000Z
DTEND:20260425T183000Z
LOCATION:GYMNASE FUSTIER PLACE MARCEL COLLANGE 63360 GERZAT
CATEGORIES:Sportif
STATUS:
URL;VALUE=URI:https://www.gerzatbasket.com/evenements/2026/04/25/u18m-vs-pont-du-chateau-2430724
END:VEVENT
END:VCALENDAR
