BEGIN:VCALENDAR
VERSION:2.0
PRODID:-//hacksw/handcal//NONSGML v1.0//EN
BEGIN:VEVENT
SUMMARY:U15F2 VS LIMAGNE
UID:f87d68fc-36b6-4eb8-9fce-4b785b81efc9
DTSTART:20260425T123000Z
DTEND:20260425T143000Z
LOCATION:GYMNASE FUSTIER PLACE MARCEL COLLANGE 63360 GERZAT
CATEGORIES:Sportif
STATUS:
URL;VALUE=URI:https://www.gerzatbasket.com/evenements/2026/04/25/u15f2-vs-limagne-2430717
END:VEVENT
END:VCALENDAR
