BEGIN:VCALENDAR
VERSION:2.0
PRODID:-//hacksw/handcal//NONSGML v1.0//EN
BEGIN:VEVENT
SUMMARY:U13M VS GANNAT
UID:140c9288-bd8e-453d-8266-6b4f1c00887a
DTSTART:20260425T120000Z
DTEND:20260425T140000Z
LOCATION:Localisation   
CATEGORIES:Sportif
STATUS:
URL;VALUE=URI:https://www.gerzatbasket.com/evenements/2026/04/25/u13m-vs-gannat-2430732
END:VEVENT
END:VCALENDAR
