BEGIN:VCALENDAR
VERSION:2.0
PRODID:-//hacksw/handcal//NONSGML v1.0//EN
BEGIN:VEVENT
SUMMARY:U11M VS LEZOUX
UID:299bbfd4-a6fa-4e2f-90fa-f36d21c8d7b1
DTSTART:20260425T143000Z
DTEND:20260425T163000Z
LOCATION:GYMNASE FUSTIER PLACE MARCEL COLLANGE 63360 GERZAT
CATEGORIES:Sportif
STATUS:
URL;VALUE=URI:https://www.gerzatbasket.com/evenements/2026/04/25/u11m-vs-lezoux-2430720
END:VEVENT
END:VCALENDAR
