BEGIN:VCALENDAR
VERSION:2.0
PRODID:-//hacksw/handcal//NONSGML v1.0//EN
BEGIN:VEVENT
SUMMARY:SF1 VS VIC LE COMTE
UID:dc941924-eca2-474c-9d0f-5997b2c4b430
DTSTART:20260425T183000Z
DTEND:20260425T203000Z
LOCATION:Localisation   
CATEGORIES:Sportif
STATUS:
URL;VALUE=URI:https://www.gerzatbasket.com/evenements/2026/04/25/sf1-vs-vic-le-comte-2430735
END:VEVENT
END:VCALENDAR
