BEGIN:VCALENDAR
VERSION:2.0
PRODID:-//hacksw/handcal//NONSGML v1.0//EN
BEGIN:VEVENT
SUMMARY:SF2 VS CHAMALIERES SAYAT
UID:ad8d3ee9-3e09-4607-a26f-2c9ef6394ce9
DTSTART:20260424T174500Z
DTEND:20260424T194500Z
LOCATION:Localisation   
CATEGORIES:Sportif
STATUS:
URL;VALUE=URI:https://www.gerzatbasket.com/evenements/2026/04/24/sf2-vs-chamalieres-sayat-2430727
END:VEVENT
END:VCALENDAR
