BEGIN:VCALENDAR
VERSION:2.0
PRODID:-//hacksw/handcal//NONSGML v1.0//EN
BEGIN:VEVENT
SUMMARY:U15F1 VS PONT DU CHATEAU
UID:f6a6ef83-dd19-4fa7-a867-b4435362a735
DTSTART:20260301T083000Z
DTEND:20260301T103000Z
LOCATION:Localisation   
CATEGORIES:Sportif
STATUS:
URL;VALUE=URI:https://www.gerzatbasket.com/evenements/2026/03/01/u15f1-vs-pont-du-chateau-2392321
END:VEVENT
END:VCALENDAR
