BEGIN:VCALENDAR
VERSION:2.0
PRODID:-//hacksw/handcal//NONSGML v1.0//EN
BEGIN:VEVENT
SUMMARY:SF2 VS PONT DE DORE
UID:51817735-0327-4da0-845f-f3aac117d1e2
DTSTART:20260301T100000Z
DTEND:20260301T120000Z
LOCATION:GYMNASE FUSTIER PLACE MARCEL COLLANGE 63360 GERZAT
CATEGORIES:Sportif
STATUS:
URL;VALUE=URI:https://www.gerzatbasket.com/evenements/2026/03/01/sf2-vs-pont-de-dore-2392317
END:VEVENT
END:VCALENDAR
