BEGIN:VCALENDAR
VERSION:2.0
PRODID:-//hacksw/handcal//NONSGML v1.0//EN
BEGIN:VEVENT
SUMMARY:SF1 VS ALPHA SAINT JACQUES
UID:1b12fcd3-4405-49ec-a2b5-d2bf0c2d3a56
DTSTART:20260301T080000Z
DTEND:20260301T100000Z
LOCATION:GYMNASE FUSTIER PLACE MARCEL COLLANGE 63360 GERZAT
CATEGORIES:Sportif
STATUS:
URL;VALUE=URI:https://www.gerzatbasket.com/evenements/2026/03/01/sf1-vs-alpha-saint-jacques-2392312
END:VEVENT
END:VCALENDAR
