BEGIN:VCALENDAR
VERSION:2.0
PRODID:-//hacksw/handcal//NONSGML v1.0//EN
BEGIN:VEVENT
SUMMARY:U9 VS AIGUEPERSE 1
UID:43cfdbb0-b71c-4bd2-a080-5eb91d397661
DTSTART:20260228T140000Z
DTEND:20260228T160000Z
LOCATION:GYMNASE FUSTIER PLACE MARCEL COLLANGE 63360 GERZAT
CATEGORIES:Sportif
STATUS:
URL;VALUE=URI:https://www.gerzatbasket.com/evenements/2026/02/28/u9-vs-aigueperse-1-2392301
END:VEVENT
END:VCALENDAR
