BEGIN:VCALENDAR
VERSION:2.0
PRODID:-//hacksw/handcal//NONSGML v1.0//EN
BEGIN:VEVENT
SUMMARY:U18M VS CUSSET
UID:8d5a8dc9-ddc1-4932-8b6b-f63923cfe60e
DTSTART:20260228T173000Z
DTEND:20260228T193000Z
LOCATION:GYMNASE FUSTIER PLACE MARCEL COLLANGE 63360 GERZAT
CATEGORIES:Sportif
STATUS:
URL;VALUE=URI:https://www.gerzatbasket.com/evenements/2026/02/28/u18m-vs-cusset-2392309
END:VEVENT
END:VCALENDAR
