BEGIN:VCALENDAR
VERSION:2.0
PRODID:-//hacksw/handcal//NONSGML v1.0//EN
BEGIN:VEVENT
SUMMARY:U15F2 VS COMBRONDE
UID:f5eb602c-c0aa-4999-bb6c-d5cdc1df4046
DTSTART:20260228T153000Z
DTEND:20260228T173000Z
LOCATION:GYMNASE FUSTIER PLACE MARCEL COLLANGE 63360 GERZAT
CATEGORIES:Sportif
STATUS:
URL;VALUE=URI:https://www.gerzatbasket.com/evenements/2026/02/28/u15f2-vs-combronde-2392304
END:VEVENT
END:VCALENDAR
