BEGIN:VCALENDAR
VERSION:2.0
PRODID:-//hacksw/handcal//NONSGML v1.0//EN
BEGIN:VEVENT
SUMMARY:U13M VS CAMALIERES
UID:ff12f042-ca80-42a2-9cd0-9c620643d2c9
DTSTART:20260228T120000Z
DTEND:20260228T140000Z
LOCATION:Localisation   
CATEGORIES:Sportif
STATUS:
URL;VALUE=URI:https://www.gerzatbasket.com/evenements/2026/02/28/u13m-vs-camalieres-2392320
END:VEVENT
END:VCALENDAR
