BEGIN:VCALENDAR
VERSION:2.0
PRODID:-//hacksw/handcal//NONSGML v1.0//EN
BEGIN:VEVENT
SUMMARY:U11M VS BASKET DOME SANCY
UID:3b51890e-4b07-47a1-a2ed-b432d7310aed
DTSTART:20260228T120000Z
DTEND:20260228T140000Z
LOCATION:Localisation   
CATEGORIES:Sportif
STATUS:
URL;VALUE=URI:https://www.gerzatbasket.com/evenements/2026/02/28/u11m-vs-basket-dome-sancy-2392318
END:VEVENT
END:VCALENDAR
