BEGIN:VCALENDAR
VERSION:2.0
PRODID:-//hacksw/handcal//NONSGML v1.0//EN
BEGIN:VEVENT
SUMMARY:U11F VS LEMPDES
UID:9898f452-4124-4c81-817f-13a22534647e
DTSTART:20260228T120000Z
DTEND:20260228T140000Z
LOCATION:GYMNASE FUSTIER PLACE MARCEL COLLANGE 63360 GERZAT
CATEGORIES:Sportif
STATUS:
URL;VALUE=URI:https://www.gerzatbasket.com/evenements/2026/02/28/u11f-vs-lempdes-2392298
END:VEVENT
END:VCALENDAR
