BEGIN:VCALENDAR
VERSION:2.0
PRODID:-//hacksw/handcal//NONSGML v1.0//EN
BEGIN:VEVENT
SUMMARY:Loisirs vs Vertaizon
UID:c9e12ce2-b3cf-4669-b86a-1889d94d4036
DTSTART:20260116T200000Z
DTEND:20260116T220000Z
LOCATION:Localisation   
CATEGORIES:Sportif
STATUS:
URL;VALUE=URI:https://www.gerzatbasket.com/evenements/2026/01/16/loisirs-vs-vertaizon-2381658
END:VEVENT
END:VCALENDAR
